Workbook

Sheet 総括表
B1: 令和6年度 財政状況資料集
B2: 総括表（市町村）
B3: 都道府県名 | L3: 東京都 | W3: 市町村類型 | AC3: 特別区 | AM3: 指定団体等の指定状況 | AY3: 区分 | BN3: 令和6年度(千円) | BV3: 令和5年度(千円) | CD3: 区分 | CT3: 令和6年度(千円･％) | DB3: 令和5年度(千円･％)
AY4: 歳入総額 | BN4: 280748881 | BV4: 264646696 | CD4: 実質収支比率 | CT4: 7.4 | DB4: 4.5
AM5: 財政健全化等 | AU5: × | AY5: 歳出総額 | BN5: 268335964 | BV5: 257696543 | CD5: 経常収支比率 | CT5: 74.8 | DB5: 75.8
B6: 市町村名 | L6: 板橋区 | W6: 地方交付税種地 | AC6: 0- | AM6: 財源超過 | AU6: ○ | AY6: 歳入歳出差引 | BN6: 12412917 | BV6: 6950153 | CD6: (※1) | CT6: 74.8 | DB6: 75.8
AM7: 首都 | AU7: ○ | AY7: 翌年度に繰越すべき財源 | BN7: 805179 | BV7: 367366 | CD7: 標準財政規模 | CT7: 156961693 | DB7: 147051346
AM8: 近畿 | AU8: × | AY8: 実質収支 | BN8: 11607738 | BV8: 6582787 | CD8: 財政力指数 | CT8: 0.43 | DB8: 0.43
B9: 人口 | L9: 令和2年国調(人) | R9: 584483 | W9: 産業構造 (※5) | AM9: 中部 | AU9: × | AY9: 単年度収支 | BN9: 5024951 | BV9: -3598114 | CD9: 公債費負担比率 | CT9: 1.4 | DB9: 1.4
L10: 平成27年国調(人) | R10: 561916 | AM10: 過疎 | AU10: × | AY10: 積立金 | BN10: 10939203 | BV10: 5544304 | CD10: 健全化判断比率
L11: 増減率 (％) | R11: 4.0 | AM11: 山振 | AU11: × | AY11: 繰上償還金 | BN11: 0 | BV11: 0 | CD11: 実質赤字比率 | CT11: - | DB11: -
B12: 住民基本台帳人口 (※7) | L12: 令07.01.01(人) | R12: 578914 | W12: 区分 | AC12: 令和2年国調 | AH12: 平成27年国調 | AM12: 低開発 | AU12: × | AY12: 積立金取崩し額 | BN12: 4951876 | BV12: 2321452 | CD12: 連結実質赤字比率 | CT12: - | DB12: -
M13: うち日本人(人) | R13: 541433 | W13: 第1次 | AC13: 309 | AH13: 334 | AM13: 指数表選定 | AU13: ○ | AY13: 実質単年度収支 | BN13: 11012278 | BV13: -375262 | CD13: 実質公債費比率 | CT13: -2.6 | DB13: -3.4
L14: 令06.01.01(人) | R14: 572927 | AC14: 0.1 | AH14: 0.2 | CD14: 将来負担比率 | CT14: - | DB14: -
M15: うち日本人(人) | R15: 540576 | W15: 第2次 | AC15: 35923 | AH15: 38103 | AY15: 基準財政収入額 | BN15: 62479045 | BV15: 59825838 | CD15: 資金不足比率 (※4)
L16: 増減率 (％) | R16: 1.0 | AC16: 15.9 | AH16: 18.2 | AY16: 基準財政需要額 | BN16: 148538618 | BV16: 139178148
M17: うち日本人(％) | R17: 0.2 | W17: 第3次 | AC17: 189457 | AH17: 171317 | AY17: 標準税収入額等 | BN17: 156961693 | BV17: 147051346
B18: 面積 (k㎡) | L18: 32.22 | AC18: 83.9 | AH18: 81.7 | AY18: 経常経費充当一般財源等 | BN18: 120240262 | BV18: 113810634
B19: 人口密度 (人/k㎡) | L19: 18140 | AY19: 歳入一般財源等 | BN19: 187313212 | BV19: 179057721
B20: 世帯数 (世帯) | L20: 314446
B21: 職員の状況 (※8)
B22: 特別職等 | E22: 区分 | L22: 定数 | Q22: 1人あたり平均 給料月額(百円) | W22: 一般職員等(※6) | Z22: 区分 | AH22: 職員数 (人) | AM22: 給料月額 (百円) | AS22: 1人あたり平均 給料月額(百円) | AY22: 地方債現在高 | BN22: 26741529 | BV22: 27408436
AY23: うち公的資金 | BN23: 20046571 | BV23: 20086078
E24: 市区町村長 | L24: 1 | Q24: 11390 | Z24: 一般職員 | AH24: 3594 | AM24: 10505262 | AS24: 2923 | AY24: 地方債現在高（臨時財政対策債除き） | BN24: 26741529 | BV24: 27408436
E25: 副市区町村長 | L25: 2 | Q25: 9130 | Z25: うち消防職員 | AH25: - | AM25: - | AS25: - | AY25: 債務負担行為額（支出予定額） | BN25: 25570403 | BV25: 17506753
E26: 教育長 | L26: 1 | Q26: 8380 | Z26: うち技能労務職員 | AH26: 312 | AM26: 900744 | AS26: 2887 | AY26: 収益事業収入 | BN26: 600000 | BV26: 600000
E27: 議会議長 | L27: 1 | Q27: 9130 | Z27: 教育公務員 | AH27: 14 | AM27: 52969 | AS27: 3784 | AY27: 土地開発基金現在高 | BN27: - | BV27: -
E28: 議会副議長 | L28: 1 | Q28: 7850 | Z28: 臨時職員 | AH28: - | AM28: - | AS28: - | AY28: 積立金 現在高 | BC28: 財政調整基金 | BN28: 36761962 | BV28: 30774635
E29: 議会議員 | L29: 44 | Q29: 6020 | Z29: 合計 | AH29: 3608 | AM29: 10558231 | AS29: 2926 | BC29: 減債基金 | BN29: 1567790 | BV29: 1255738
W30: ラスパイレス指数 | AH30: 98 | BC30: その他特定目的基金 | BN30: 91177882 | BV30: 84533601
C32: 一般会計等の一覧 | U32: 事業会計の一覧 | AM32: 公営企業（法適）の一覧 | BE32: 公営企業（法非適）の一覧 | BW32: 関係する一部事務組合等一覧 | CO32: 地方公社・第三セクター等一覧
C33: 項番 | E33: 会計名 | U33: 項番 | W33: 会計名 | AM33: 項番 | AO33: 会計名 | BE33: 項番 | BG33: 会計名 | BW33: 項番 | BY33: 組合等名 | CO33: 項番 | CQ33: 団体名 | DG33: (※3)
C34: =IF(E34="","",1) -> #REF! | E34: =IF(#REF!="","",#REF!) -> #REF! | U34: =IF(W34="","",MAX(C34:D43)+1) -> #REF! | W34: =IF(#REF!="","",#REF!) -> #REF! | AM34: =IF(AO34="","",MAX(C34:D43,U34:V43)+1) | BE34: =IF(BG34="","",MAX(C34:D43,U34:V43,AM34:AN43)+1) | BW34: =IF(BY34="","",MAX(C34:D43,U34:V43,AM34:AN43,BE34:BF43)+1) -> #REF! | BY34: =IF(#REF!="","",#REF!) -> #REF! | CO34: =IF(CQ34="","",MAX(C34:D43,U34:V43,AM34:AN43,BE34:BF43,BW34:BX43)+1) -> #REF! | CQ34: =IF(#REF!="","",#REF!) -> #REF! | DG34: =IF(#REF!="","",#REF!) -> #REF!
C35: =IF(E35="","",C34+1) -> #REF! | E35: =IF(#REF!="","",#REF!) -> #REF! | U35: =IF(W35="","",U34+1) -> #REF! | W35: =IF(#REF!="","",#REF!) -> #REF! | AM35: =IF(AO35="","",AM34+1) | BE35: =IF(BG35="","",BE34+1) | BW35: =IF(BY35="","",BW34+1) -> #REF! | BY35: =IF(#REF!="","",#REF!) -> #REF! | CO35: =IF(CQ35="","",CO34+1) -> #REF! | CQ35: =IF(#REF!="","",#REF!) -> #REF! | DG35: =IF(#REF!="","",#REF!) -> #REF!
C36: =IF(E36="","",C35+1) -> #REF! | E36: =IF(#REF!="","",#REF!) -> #REF! | U36: =IF(W36="","",U35+1) -> #REF! | W36: =IF(#REF!="","",#REF!) -> #REF! | AM36: =IF(AO36="","",AM35+1) | BE36: =IF(BG36="","",BE35+1) | BW36: =IF(BY36="","",BW35+1) -> #REF! | BY36: =IF(#REF!="","",#REF!) -> #REF! | CO36: =IF(CQ36="","",CO35+1) -> #REF! | CQ36: =IF(#REF!="","",#REF!) -> #REF! | DG36: =IF(#REF!="","",#REF!) -> #REF!
C37: =IF(E37="","",C36+1) -> #REF! | E37: =IF(#REF!="","",#REF!) -> #REF! | U37: =IF(W37="","",U36+1) | AM37: =IF(AO37="","",AM36+1) | BE37: =IF(BG37="","",BE36+1) | BW37: =IF(BY37="","",BW36+1) -> #REF! | BY37: =IF(#REF!="","",#REF!) -> #REF! | CO37: =IF(CQ37="","",CO36+1) -> #REF! | CQ37: =IF(#REF!="","",#REF!) -> #REF! | DG37: =IF(#REF!="","",#REF!) -> #REF!
C38: =IF(E38="","",C37+1) -> #REF! | E38: =IF(#REF!="","",#REF!) -> #REF! | U38: =IF(W38="","",U37+1) | AM38: =IF(AO38="","",AM37+1) | BE38: =IF(BG38="","",BE37+1) | BW38: =IF(BY38="","",BW37+1) -> #REF! | BY38: =IF(#REF!="","",#REF!) -> #REF! | CO38: =IF(CQ38="","",CO37+1) -> #REF! | CQ38: =IF(#REF!="","",#REF!) -> #REF! | DG38: =IF(#REF!="","",#REF!) -> #REF!
C39: =IF(E39="","",C38+1) -> #REF! | E39: =IF(#REF!="","",#REF!) -> #REF! | U39: =IF(W39="","",U38+1) | AM39: =IF(AO39="","",AM38+1) | BE39: =IF(BG39="","",BE38+1) | BW39: =IF(BY39="","",BW38+1) -> #REF! | BY39: =IF(#REF!="","",#REF!) -> #REF! | CO39: =IF(CQ39="","",CO38+1) -> #REF! | CQ39: =IF(#REF!="","",#REF!) -> #REF! | DG39: =IF(#REF!="","",#REF!) -> #REF!
C40: =IF(E40="","",C39+1) -> #REF! | E40: =IF(#REF!="","",#REF!) -> #REF! | U40: =IF(W40="","",U39+1) | AM40: =IF(AO40="","",AM39+1) | BE40: =IF(BG40="","",BE39+1) | BW40: =IF(BY40="","",BW39+1) -> #REF! | BY40: =IF(#REF!="","",#REF!) -> #REF! | CO40: =IF(CQ40="","",CO39+1) -> #REF! | CQ40: =IF(#REF!="","",#REF!) -> #REF! | DG40: =IF(#REF!="","",#REF!) -> #REF!
C41: =IF(E41="","",C40+1) -> #REF! | E41: =IF(#REF!="","",#REF!) -> #REF! | U41: =IF(W41="","",U40+1) | AM41: =IF(AO41="","",AM40+1) | BE41: =IF(BG41="","",BE40+1) | BW41: =IF(BY41="","",BW40+1) -> #REF! | BY41: =IF(#REF!="","",#REF!) -> #REF! | CO41: =IF(CQ41="","",CO40+1) -> #REF! | CQ41: =IF(#REF!="","",#REF!) -> #REF! | DG41: =IF(#REF!="","",#REF!) -> #REF!
...

Sheet 普通会計の状況
DH1: 令和6年度 | DP1: 東京都板橋区
B2: (1) 普通会計の状況（市町村）
B3: 歳入の状況（単位 千円・％） | AP3: 地方税の状況（単位 千円・％） | CD3: 歳出の状況（単位 千円・％）
B4: 区分 | R4: 決算額 | Z4: 構成比 | AD4: 経常一般財源等 | AL4: 構成比 | AP4: 区分 | BG4: 収入済額 | BO4: 構成比 | BS4: 超過課税分 | CD4: 目的別歳出の状況（単位 千円・％）
B5: 地方税 | R5: 50226579 | Z5: 17.9 | AD5: 50226579 | AL5: 31.2 | AP5: 普通税 | BG5: 50226213 | BO5: 100 | BS5: - | CD5: 区分 | CR5: 決算額 (A) | CZ5: 構成比 | DD5: (A)のうち普通建設事業費 | DQ5: (A)のうち充当一般財源等
B6: 地方譲与税 | R6: 854423 | Z6: 0.3 | AD6: 854423 | AL6: 0.5 | AP6: 法定普通税 | BG6: 50226213 | BO6: 100 | BS6: - | CD6: 議会費 | CR6: 887964 | CZ6: 0.3 | DD6: - | DQ6: 887861
B7: 利子割交付金 | R7: 263459 | Z7: 0.1 | AD7: 263459 | AL7: 0.2 | AP7: 市町村民税 | BG7: 46034944 | BO7: 91.7 | BS7: - | CD7: 総務費 | CR7: 33979248 | CZ7: 12.7 | DD7: 1118705 | DQ7: 29912350
B8: 配当割交付金 | R8: 1357142 | Z8: 0.5 | AD8: 1357142 | AL8: 0.8 | AP8: 個人均等割 | BG8: 995985 | BO8: 2 | BS8: - | CD8: 民生費 | CR8: 149570200 | CZ8: 55.7 | DD8: 1553652 | DQ8: 79431792
B9: 株式等譲渡所得割交付金 | R9: 1980674 | Z9: 0.7 | AD9: 1980674 | AL9: 1.2 | AP9: 所得割 | BG9: 45038959 | BO9: 89.7 | BS9: - | CD9: 衛生費 | CR9: 19100530 | CZ9: 7.1 | DD9: 118260 | DQ9: 14778127
B10: 分離課税所得割交付金 | R10: - | Z10: - | AD10: - | AL10: - | AP10: 法人均等割 | BG10: - | BO10: - | BS10: - | CD10: 労働費 | CR10: 183144 | CZ10: 0.1 | DD10: - | DQ10: 152348
B11: 地方消費税交付金 | R11: 14358635 | Z11: 5.1 | AD11: 14358635 | AL11: 8.9 | AP11: 法人税割 | BG11: - | BO11: - | BS11: - | CD11: 農林水産業費 | CR11: 158766 | CZ11: 0.1 | DD11: - | DQ11: 144850
B12: ゴルフ場利用税交付金 | R12: 5963 | Z12: 0 | AD12: 5963 | AL12: 0 | AP12: 固定資産税 | BG12: - | BO12: - | BS12: - | CD12: 商工費 | CR12: 3881629 | CZ12: 1.4 | DD12: - | DQ12: 3534112
B13: 自動車取得税交付金 | R13: 2915 | Z13: 0 | AD13: 2915 | AL13: 0 | AP13: うち純固定資産税 | BG13: - | BO13: - | BS13: - | CD13: 土木費 | CR13: 19979026 | CZ13: 7.4 | DD13: 11906627 | DQ13: 11318547
B14: 軽油引取税交付金 | R14: - | Z14: - | AD14: - | AL14: - | AP14: 軽自動車税 | BG14: 306768 | BO14: 0.6 | BS14: - | CD14: 消防費 | CR14: 1677228 | CZ14: 0.6 | DD14: 63932 | DQ14: 1604180
B15: 自動車税環境性能割交付金 | R15: 314976 | Z15: 0.1 | AD15: 314976 | AL15: 0.2 | AP15: 市町村たばこ税 | BG15: 3884501 | BO15: 7.7 | BS15: - | CD15: 教育費 | CR15: 36322367 | CZ15: 13.5 | DD15: 6009761 | DQ15: 30540266
B16: 法人事業税交付金 | R16: - | Z16: - | AD16: - | AL16: - | AP16: 鉱産税 | BG16: - | BO16: - | BS16: - | CD16: 災害復旧費 | CR16: - | CZ16: - | DD16: - | DQ16: -
B17: 地方特例交付金等 | R17: 2957545 | Z17: 1.1 | AD17: 2957545 | AL17: 1.8 | AP17: 特別土地保有税 | BG17: - | BO17: - | BS17: - | CD17: 公債費 | CR17: 2595862 | CZ17: 1 | DD17: - | DQ17: 2595862
B18: 住宅借入金等特別税額控除減収補塡特例交付金 | R18: 343073 | Z18: 0.1 | AD18: 343073 | AL18: 0.2 | AP18: 法定外普通税 | BG18: - | BO18: - | BS18: - | CD18: 諸支出金 | CR18: - | CZ18: - | DD18: - | DQ18: -
B19: 定額減税減収補塡特例交付金 | R19: 2614472 | Z19: 0.9 | AD19: 2614472 | AL19: 1.6 | AP19: 目的税 | BG19: 366 | BO19: 0 | BS19: - | CD19: 前年度繰上充用金 | CR19: - | CZ19: - | DD19: - | DQ19: -
B20: 新型コロナウイルス感染症対策地方税減収補塡特別交付金 | R20: - | Z20: - | AD20: - | AL20: - | AP20: 法定目的税 | BG20: 366 | BO20: 0 | BS20: - | CD20: 歳出合計 | CR20: 268335964 | CZ20: 100 | DD20: 20770937 | DQ20: 174900295
B21: 地方交付税 | R21: - | Z21: - | AD21: - | AL21: - | AP21: 入湯税 | BG21: 366 | BO21: 0 | BS21: -
B22: 普通交付税 | R22: - | Z22: - | AD22: - | AL22: - | AP22: 事業所税 | BG22: - | BO22: - | BS22: - | CD22: 性質別歳出の状況（単位 千円・％）
B23: 特別交付税 | R23: - | Z23: - | AD23: - | AL23: - | AP23: 都市計画税 | BG23: - | BO23: - | BS23: - | CD23: 区分 | CR23: 決算額 | CZ23: 構成比 | DD23: 充当一般財源等 | DL23: 経常経費充当一般財源等 | DW23: 経常収支比率
B24: 震災復興特別交付税 | R24: - | Z24: - | AD24: - | AL24: - | AP24: 水利地益税等 | BG24: - | BO24: - | BS24: - | CD24: 義務的経費計 | CR24: 138995126 | CZ24: 51.8 | DD24: 73705863 | DL24: 65510352 | DW24: 40.7
B25: (一般財源計) | R25: 72322311 | Z25: 25.8 | AD25: 72322311 | AL25: 45 | AP25: 法定外目的税 | BG25: - | BO25: - | BS25: - | CD25: 人件費 | CR25: 35099530 | CZ25: 13.1 | DD25: 33035041 | DL25: 31552054 | DW25: 19.6
B26: 交通安全対策特別交付金 | R26: 46143 | Z26: 0 | AD26: 46143 | AL26: 0 | AP26: 旧法による税 | BG26: - | BO26: - | BS26: - | CD26: うち職員給 | CR26: 23214403 | CZ26: 8.7 | DD26: 21944694 | DL26: - | DW26: -
B27: 分担金・負担金 | R27: 2272604 | Z27: 0.8 | AD27: - | AL27: - | AP27: 合計 | BG27: 50226579 | BO27: 100 | BS27: - | CD27: 扶助費 | CR27: 101299842 | CZ27: 37.8 | DD27: 38075068 | DL27: 31362544 | DW27: 19.5
B28: 使用料 | R28: 3201807 | Z28: 1.1 | AD28: 2247795 | AL28: 1.4 | CD28: 公債費 | CR28: 2595754 | CZ28: 1 | DD28: 2595754 | DL28: 2595754 | DW28: 1.6
B29: 手数料 | R29: 844882 | Z29: 0.3 | AD29: - | AL29: - | CD29: 内訳 | CF29: 元利償還金 | CR29: 2595754 | CZ29: 1 | DD29: 2595754 | DL29: 2595754 | DW29: 1.6
B30: 国庫支出金 | R30: 59064389 | Z30: 21 | AD30: - | AL30: - | AP30: 区分 | BG30: 令和6年度 | BR30: 令和5年度 | CF30: うち元金 | CR30: 2384007 | CZ30: 0.9 | DD30: 2384007 | DL30: 2384007 | DW30: 1.5
B31: 国有提供交付金(特別区財調交付金) | R31: 89294523 | Z31: 31.8 | AD31: 86059573 | AL31: 53.5 | AP31: 徴収率 (％) | AT31: 現年 | AX31: 合計 | BG31: 98.8 | BM31: 97.4 | BR31: 98.9 | BX31: 97.2 | CF31: うち利子 | CR31: 211747 | CZ31: 0.1 | DD31: 211747 | DL31: 211747 | DW31: 0.1
B32: 都道府県支出金 | R32: 31732717 | Z32: 11.3 | AD32: - | AL32: - | AU32: ・計 | AX32: 市町村民税 | BG32: 98.8 | BM32: 97.2 | BR32: 98.8 | BX32: 97 | CF32: 一時借入金利子 | CR32: - | CZ32: - | DD32: - | DL32: - | DW32: -
B33: 財産収入 | R33: 738567 | Z33: 0.3 | AD33: 121472 | AL33: 0.1 | AX33: 純固定資産税 | BG33: - | BM33: - | BR33: - | BX33: - | CD33: その他の経費 | CR33: 108569901 | CZ33: 40.5 | DD33: 90714295 | DL33: 54729910 | DW33: 34
B34: 寄附金 | R34: 54440 | Z34: 0 | AD34: - | AL34: - | CD34: 物件費 | CR34: 46967482 | CZ34: 17.5 | DD34: 38013368 | DL34: 33032582 | DW34: 20.5
B35: 繰入金 | R35: 8750738 | Z35: 3.1 | AD35: - | AL35: - | AQ35: 公営事業等への繰出 | BG35: 国民健康保険事業会計の状況 | CD35: 維持補修費 | CR35: 1129743 | CZ35: 0.4 | DD35: 1082841 | DL35: 1082841 | DW35: 0.7
B36: 繰越金 | R36: 6950153 | Z36: 2.5 | AD36: - | AL36: - | AQ36: 合計 | AZ36: 22428416 | BG36: 実質収支 | BV36: 659707 | CD36: 補助費等 | CR36: 16568714 | CZ36: 6.2 | DD36: 12246446 | DL36: 5421304 | DW36: 3.4
B37: 諸収入 | R37: 3758507 | Z37: 1.3 | AD37: 7517 | AL37: 0 | AQ37: 上水道 | AZ37: - | BG37: 再差引収支 | BV37: 659707 | CD37: うち一部事務組合負担金 | CR37: 2956618 | CZ37: 1.1 | DD37: 2956618 | DL37: 2095389 | DW37: 1.3
B38: 地方債 | R38: 1717100 | Z38: 0.6 | AD38: - | AL38: - | AQ38: 工業用水道 | AZ38: - | BG38: 加入世帯数(世帯) | BV38: 80703 | CD38: 繰出金 | CR38: 22428416 | CZ38: 8.4 | DD38: 18576803 | DL38: 15193183 | DW38: 9.4
B39: うち減収補塡債(特例分) | R39: - | Z39: - | AD39: - | AL39: - | AQ39: 交通 | AZ39: - | BG39: 被保険者数(人) | BV39: 103783 | CD39: 積立金 | CR39: 21009265 | CZ39: 7.8 | DD39: 20792388 | DL39: - | DW39: -
B40: うち臨時財政対策債 | R40: - | Z40: - | AD40: - | AL40: - | AQ40: 電気 | AZ40: - | BG40: 被保険者 1人当り | BM40: 保険税(料)収入額 | BV40: 133 | CD40: 投資・出資金・貸付金 | CR40: 466281 | CZ40: 0.2 | DD40: 2449 | DL40: - | DW40: -
...

Sheet 各会計、関係団体の財政状況及び健全化判断比率
A2: (2)各会計、関係団体の財政状況及び健全化判断比率（市町村） | DJ2: 令和6年度 | DQ2: 東京都板橋区
A4: 一般会計等の財政状況（単位：百万円） | BQ4: 地方公社・第三セクター等の経営状況及び地方公共団体の財政的支援の状況（単位：百万円）
A5: 会計名 | Q5: 歳入 | V5: 歳出 | AA5: 形式収支 | AF5: 実質収支 | AK5: 他会計等 からの 繰入金 | AP5: 地方債 現在高 | AU5: 備考 | BQ5: 地方公社・第三セクター等名 | CH5: 経常損益 | CM5: 純資産又は 正味財産 | CR5: 当該団体 からの 出資金 | CW5: 当該団体 からの 補助金 | DB5: 当該団体 からの 貸付金 | DG5: 当該団体からの債務保証に係る債務残高 | DL5: 当該団体からの損失補償に係る債務残高 | DQ5: 一般会計等 負担見込額 | DV5: 備考
A7: 1 | B7: 一般会計 | Q7: 282270 | V7: 269936 | AA7: 12334 | AF7: 11529 | AK7: 8977 | AP7: 33173 | BQ7: 1 | BR7: 〇 | BS7: 板橋区土地開発公社 | CH7: -2 | CM7: 33 | CR7: 10 | CW7: - | DB7: 4419 | DG7: 2028 | DL7: - | DQ7: -
A8: 2 | B8: 東武東上線連続立体化事業特別会計 | Q8: 799 | V8: 720 | AA8: 79 | AF8: 79 | AK8: 710 | BQ8: 2 | BS8: 植村記念財団 | CH8: 3 | CM8: 611 | CR8: 500 | CW8: 33 | DB8: - | DG8: - | DL8: - | DQ8: -
A9: 3 | BQ9: 3 | BS9: 板橋区産業振興公社 | CH9: -5 | CM9: 873 | CR9: 200 | CW9: 226 | DB9: - | DG9: - | DL9: - | DQ9: -
A10: 4 | BQ10: 4 | BS10: 板橋区文化・国際交流財団 | CH10: 23 | CM10: 597 | CR10: 600 | CW10: 102 | DB10: - | DG10: - | DL10: - | DQ10: -
A11: 5 | BQ11: 5
A12: 6 | BQ12: 6
A13: 7 | BQ13: 7
A14: 8 | BQ14: 8
A15: 9 | BQ15: 9
A16: 10 | BQ16: 10
A17: 11 | BQ17: 11
A18: 12 | BQ18: 12
A19: 13 | BQ19: 13
A20: 14 | BQ20: 14
A21: 15 | BQ21: 15
A22: 16 | AZ22: 実質赤字額 | BQ22: 16
A23: 計 | B23: 一般会計等（純計） | Q23: 280749 | V23: 268336 | AA23: 12413 | AF23: 11608 | AP23: 33173 | AZ23: - | BQ23: 17
A24: ※一般会計等（純計）は、各会計の相互間の繰入・繰出等の重複を控除したものであり、各会計の合計と一致しない場合がある。 | BQ24: 18
A25: 公営企業会計等の財政状況（単位：百万円） | BQ25: 19
A26: 会計名 | Q26: 総収益 （歳入） | V26: 総費用 （歳出） | AA26: 純損益 （形式収支） | AF26: 資金剰余額 /不足額 （実質収支） | AK26: 他会計等 からの 繰入金 | AP26: 企業債 （地方債） 現在高 | AU26: 左のうち 一般会計等 繰入見込額 | AZ26: 資金不足 比率 | BE26: 備考 | BQ26: 20
BQ27: 21
A28: 1 | B28: 国民健康保険事業特別会計 | Q28: 54884 | V28: 54224 | AA28: 660 | AF28: 660 | AK28: 6137 | AP28: - | AU28: - | BQ28: 22
A29: 2 | B29: 介護保険事業特別会計 | Q29: 48754 | V29: 47899 | AA29: 855 | AF29: 855 | AK29: 7499 | AP29: - | AU29: - | BQ29: 23
A30: 3 | B30: 後期高齢者医療事業特別会計 | Q30: 15075 | V30: 14973 | AA30: 101 | AF30: 101 | AK30: 7385 | AP30: - | AU30: - | BQ30: 24
A31: 4 | BQ31: 25
A32: 5 | BQ32: 26
A33: 6 | BQ33: 27
A34: 7 | BQ34: 28
A35: 8 | BQ35: 29
A36: 9 | BQ36: 30
A37: 10 | BQ37: 31
A38: 11 | BQ38: 32
A39: 12 | BQ39: 33
A40: 13 | BQ40: 34
A41: 14 | BQ41: 35
A42: 15 | BQ42: 36
... A61: 34 | BQ61: 55
...

Sheet 財政比較分析表

Sheet 経常経費分析表（経常収支比率の分析）

Sheet 経常経費分析表（人件費・公債費・普通建設事業費の分析）
A5: 人件費及び人件費に準ずる費用の分析
AK6: 人件費及び人件費に準ずる費用
AO7: 当該団体決算額 （千円） | AQ7: 人口1人当たり決算額
AP8: 当該団体（円） | AQ8: 類似団体平均（円） | AR8: 対比（％）
AK9: 人件費 | AO9: 35099530 | AP9: 60630 | AQ9: 69750 | AR9: -13.1
AK10: 一部事務組合負担金（補助費等） | AO10: 604918 | AP10: 1045 | AQ10: 1158 | AR10: -9.8
AK11: 公営企業（法適）等に対する繰出し（補助費等） | AO11: - | AP11: - | AQ11: - | AR11: -
AK12: 公営企業（法適）等に対する繰出し（投資及び出資金・貸付金） | AO12: - | AP12: - | AQ12: - | AR12: -
AK13: 公営企業（法非適）等に対する繰出し（繰出金） | AO13: 1615093 | AP13: 2790 | AQ13: 2380 | AR13: 17.2
AK14: 事業費支弁に係る職員の人件費（投資的経費） | AO14: 765383 | AP14: 1322 | AQ14: 1678 | AR14: -21.2
AK15: ▲退職金 | AO15: -2416277 | AP15: -4174 | AQ15: -4869 | AR15: -14.3
AK16: 合計 | AO16: 35668647 | AP16: 61613 | AQ16: 70096 | AR16: -12.1
AK19: 参考
AO20: 当該団体 | AP20: 類似団体平均 | AQ20: 対比（差引）
AK21: 人口1,000人当たり職員数（人） | AO21: 6.23 | AP21: 6.37 | AQ21: -0.14
AK22: ラスパイレス指数 | AO22: 98 | AP22: 98.4 | AQ22: -0.4
A26: （注）人口については、各調査対象年度の1月1日現在の住民基本台帳に登載されている人口に基づいている。
A28: 公債費及び公債費に準ずる費用の分析
AK29: 公債費及び公債費に準ずる費用（実質公債費比率の構成要素）
AO30: 当該団体決算額 （千円） | AQ30: 人口1人当たり決算額
AP31: 当該団体（円） | AQ31: 類似団体平均（円） | AR31: 対比（％）
AK32: 元利償還金の額 （繰上償還額等を除く） | AO32: 2595754 | AP32: 4484 | AQ32: 4451 | AR32: 0.7
AK33: 積立不足額を考慮して算定した額 | AO33: - | AP33: - | AQ33: - | AR33: -
AK34: 満期一括償還地方債の一年当たりの元金償還金に相当するもの （年度割相当額） | AO34: 217750 | AP34: 376 | AQ34: 416 | AR34: -9.6
AK35: 公営企業に要する経費の財源とする地方債の償還の財源に 充てたと認められる繰入金 | AO35: - | AP35: - | AQ35: 18 | AR35: -
AK36: 一部事務組合等の起こした地方債に充てたと認められる 補助金又は負担金 | AO36: 287037 | AP36: 496 | AQ36: 532 | AR36: -6.8
AK37: 公債費に準ずる債務負担行為に係るもの | AO37: 284650 | AP37: 492 | AQ37: 1760 | AR37: -72
AK38: 一時借入金利子 （同一団体における会計間の現金運用に係る利子は除く） | AO38: - | AP38: - | AQ38: - | AR38: -
AK39: ▲特定財源の額 | AO39: - | AP39: - | AQ39: -15 | AR39: -
AK40: ▲地方債に係る元利償還金及び準元利償還金に要する経費として 普通交付税の額の算定に用いる基準財政需要額に算入された額 | AO40: -5848977 | AP40: -10103 | AQ40: -9977 | AR40: 1.3
AK41: 合計 | AO41: -2463786 | AP41: -4256 | AQ41: -2814 | AR41: 51.2
A47: （参考） 普通建設事業費の分析
AK48: 普通建設事業費
AM49: 当該団体決算額 （千円） | AN49: 人口１人当たり決算額
AN50: 当該団体(円) | AO50: 増減率(%)(A) | AP50: 類似団体平均(円) | AQ50: 増減率(%)(B) | AR50: (A)-(B)
AK51: R02 | AM51: 20696248 | AN51: 36296 | AO51: 36.3 | AP51: 50465 | AQ51: -2.4 | AR51: 38.7
AL52: うち単独分 | AM52: 15217355 | AN52: 26687 | AO52: 21.6 | AP52: 34193 | AQ52: -8.1 | AR52: 29.7
AK53: R03 | AM53: 18910244 | AN53: 33339 | AO53: -8.1 | AP53: 51679 | AQ53: 2.4 | AR53: -10.5
AL54: うち単独分 | AM54: 15287892 | AN54: 26953 | AO54: 1 | AP54: 35132 | AQ54: 2.7 | AR54: -1.7
AK55: R04 | AM55: 16279719 | AN55: 28649 | AO55: -14.1 | AP55: 49665 | AQ55: -3.9 | AR55: -10.2
...

Sheet 性質別歳出決算分析表（住民一人当たりのコスト）

Sheet 目的別歳出決算分析表（住民一人当たりのコスト）

Sheet 実質収支比率等に係る経年分析
J45: 標準財政規模比（％）
B46: 区分 | E46: 年度 | F46: R02 | G46: R03 | H46: R04 | I46: R05 | J46: R06
C47: 財政調整基金残高 | F47: 20.7 | G47: 20.22 | H47: 19.84 | I47: 20.93 | J47: 23.42
C48: 実質収支額 | F48: 6.88 | G48: 9.47 | H48: 7.33 | I48: 4.48 | J48: 7.4
C49: 実質単年度収支 | F49: 5.26 | G49: 2.62 | H49: ▲ 1.16 | I49: ▲ 0.26 | J49: 7.02

Sheet 連結実質赤字比率に係る赤字・黒字の構成分析
J32: 標準財政規模比（％）
B33: 会計 | E33: 年度 | F33: R02 | G33: R03 | H33: R04 | I33: R05 | J33: R06
C34: 一般会計 | F34: 6.85 | G34: 9.45 | H34: 7.31 | I34: 4.43 | J34: 7.34
C35: 介護保険事業特別会計 | F35: 1.29 | G35: 1.14 | H35: 1.05 | I35: 0.69 | J35: 0.54
C36: 国民健康保険事業特別会計 | F36: 1.04 | G36: 0.68 | H36: 0.32 | I36: 0.46 | J36: 0.42
C37: 後期高齢者医療事業特別会計 | F37: 0.11 | G37: 0.12 | H37: 0.14 | I37: 0.08 | J37: 0.06
C38: 東武東上線連続立体化事業特別会計 | F38: 0.01 | G38: 0.01 | H38: 0.02 | I38: 0.03 | J38: 0.05
C42: その他会計（赤字） | F42: - | G42: - | H42: - | I42: - | J42: -
C43: その他会計（黒字） | F43: - | G43: - | H43: - | I43: - | J43: -

Sheet 実質公債費比率（分子）の構造
O43: （百万円）
B44: 分子の構造 | J44: 年度 | K44: R02 | L44: R03 | M44: R04 | N44: R05 | O44: R06
B45: 元利償還金等(A) | E45: 元利償還金 | K45: 2734 | L45: 2736 | M45: 2568 | N45: 2565 | O45: 2596
E46: 減債基金積立不足算定額※2 | K46: - | L46: - | M46: - | N46: - | O46: -
E47: 満期一括償還地方債に係る年度割相当額 | K47: 154 | L47: 229 | M47: 229 | N47: 229 | O47: 218
E48: 公営企業債の元利償還金に対する繰入金 | K48: - | L48: - | M48: - | N48: - | O48: -
E49: 組合等が起こした地方債の元利償還金に対する負担金等 | K49: 166 | L49: 160 | M49: 160 | N49: 201 | O49: 287
E50: 債務負担行為に基づく支出額 | K50: 115 | L50: 381 | M50: 266 | N50: 201 | O50: 285
E51: 一時借入金の利子 | K51: - | L51: - | M51: - | N51: - | O51: -
B52: 算入公債費等(B) | E52: 算入公債費等 | K52: 8842 | L52: 8564 | M52: 7884 | N52: 7163 | O52: 5849
B53: (A)－(B) | E53: 実質公債費比率の分子 | K53: -5673 | L53: -5058 | M53: -4661 | N53: -3967 | O53: -2463
B54: ※ 減債基金積立不足算定額=(C)×(１－(D)/(E))
B56: （参考） | O56: （百万円）
J57: 年度 | K57: R02 | L57: R03 | M57: R04 | N57: R05 | O57: R06
B58: 減債基金 積立状況等（注） | D58: 満期一括償還地方債に係る実質償還額又は理論償還額のいずれか少ない額(C) | K58: 46 | L58: 62 | M58: 0 | N58: 127 | O58: 37
D59: 前年度末減債基金残高(D) | K59: 4501 | L59: 7400 | M59: 7520 | N59: 6878 | O59: 6533
D60: 前年度末減債基金積立相当額(E) | K60: 584 | L60: 676 | M60: 905 | N60: 1134 | O60: 1237
D61: （注）減債基金のうち、実質公債費比率の算定に用いる満期一括償還地方債の償還の財源に係るもののみを記入。
D62: 減債基金積立金の年度を超えた一般会計又は特別会計への貸付額は控除して記入。

Sheet 将来負担比率（分子）の構造
M39: （百万円）
B40: 分子の構造 | H40: 年度 | I40: R02 | J40: R03 | K40: R04 | L40: R05 | M40: R06
B41: 将来負担額(A) | E41: 一般会計等に係る地方債の現在高 | I41: 35687 | J41: 36697 | K41: 35557 | L41: 33941 | M41: 33173
E42: 債務負担行為に基づく支出予定額 | I42: 4333 | J42: 3969 | K42: 4370 | L42: 4744 | M42: 6473
E43: 公営企業債等繰入見込額 | I43: - | J43: - | K43: - | L43: - | M43: -
E44: 組合等負担等見込額 | I44: 2181 | J44: 2465 | K44: 3022 | L44: 3125 | M44: 3789
E45: 退職手当負担見込額 | I45: 22491 | J45: 22045 | K45: 21714 | L45: 21229 | M45: 21167
E46: 設立法人等の負債額等負担見込額 | I46: - | J46: - | K46: - | L46: - | M46: -
E47: うち、健全化法施行規則附則第三条に係る負担見込額 | I47: - | J47: - | K47: - | L47: - | M47: -
E48: 連結実質赤字額 | I48: - | J48: - | K48: - | L48: - | M48: -
E49: 組合等連結実質赤字額負担見込額 | I49: - | J49: - | K49: - | L49: - | M49: -
B50: 充当可能財源等(B) | E50: 充当可能基金 | I50: 83589 | J50: 96427 | K50: 114023 | L50: 129546 | M50: 142893
E51: 充当可能特定歳入 | I51: 4159 | J51: 3940 | K51: 3793 | L51: 4049 | M51: 4419
E52: 基準財政需要額算入見込額 | I52: 71397 | J52: 74989 | K52: 70679 | L52: 63341 | M52: 57627
B53: (A)－(B) | E53: 将来負担比率の分子 | I53: -94454 | J53: -110180 | K53: -123831 | L53: -133896 | M53: -140337

Sheet 基金残高に係る経年分析
H53: （百万円）
B54: 区分 | E54: 年度 | F54: R04 | G54: R05 | H54: R06
C55: 財政調整基金 | F55: 27552 | G55: 30775 | H55: 36762
C56: 減債基金 | F56: 948 | G56: 1256 | H56: 1568
C57: その他特定目的基金 | F57: 72404 | G57: 84534 | H57: 91178
C58: 義務教育施設整備基金 | F58: 38655 | G58: 45867 | H58: 50061
C59: 公共施設等整備基金 | F59: 23711 | G59: 28999 | H59: 32491
C60: 東武東上線連続立体化事業基金 | F60: 6334 | G60: 6151 | H60: 5587
C61: 住宅基金 | F61: 3205 | G61: 3049 | H61: 2541
C62: 森林環境譲与税基金 | F62: 166 | G62: 195 | H62: 225
C63: 基金残高合計 | F63: 100904 | G63: 116564 | H63: 129508

Sheet 公会計指標分析・財政指標組合せ分析表
B41: 将来負担比率及び有形固定資産減価償却率の組合せによる分析
AN42: 分析欄
AN43: 将来負担比率は生じていない一方で、小・中学校をはじめとした公共施設の更新需要は継続して見込まれている。 今後も区民ニーズを的確に捉えながら、施設更新や複合化について計画的に進め、中・長期的視点による施設の維持・管理を推進していく。
AN49: ( 参考 ）
BP50: R02 | BX50: R03 | CF50: R04 | CN50: R05 | CV50: R06
AN51: 当該団体値 | BB51: 将来負担比率
BB53: 有形固定資産減価償却率 | BP53: 46.6 | BX53: 45.4 | CF53: 46.4 | CN53: 47.2 | CV53: 47.6
AN55: 類似団体内平均値 | BB55: 将来負担比率 | BP55: 0 | BX55: 0 | CF55: 0 | CN55: 0 | CV55: 0
BB57: 有形固定資産減価償却率 | BP57: 56.4 | BX57: 56 | CF57: 56.6 | CN57: 56.7 | CV57: 56.5
B63: 将来負担比率及び実質公債費比率の組合せによる分析
AN64: 分析欄
AN65: 将来負担比率については、一般会計等が負担する将来負担額に対し、充当可能財源の額が上回るため、将来負担比率はマイナスとなっている。 実質公債費比率については、早期健全化基準を大きく下回る算定結果となっている。 分母である標準財政規模が105億17百万円増加したため、単年度の比率は2.1ポイント、3か年平均は1.3ポイントの増となった。
AN71: ( 参考 ）
BP72: R02 | BX72: R03 | CF72: R04 | CN72: R05 | CV72: R06
AN73: 当該団体値 | BB73: 将来負担比率
BB75: 実質公債費比率 | BP75: -4.6 | BX75: -4.4 | CF75: -4.1 | CN75: -3.4 | CV75: -2.6
AN77: 類似団体内平均値 | BB77: 将来負担比率 | BP77: 0 | BX77: 0 | CF77: 0 | CN77: 0 | CV77: 0
BB79: 実質公債費比率 | BP79: -3.4 | BX79: -3.2 | CF79: -3.1 | CN79: -2.6 | CV79: -1.9

Sheet 施設類型別ストック情報分析表①

Sheet 施設類型別ストック情報分析表②

Sheet データシート
D2: 当該団体(円) | F2: 類似団体内平均(円)
A3: R02 | D3: 36296 | F3: 50465
D4: 26687 | F4: 34193
A5: R03 | D5: 33339 | F5: 51679
D6: 26953 | F6: 35132
A7: R04 | D7: 28649 | F7: 49665
D8: 19746 | F8: 34678
A9: R05 | D9: 38360 | F9: 63439
D10: 22388 | F10: 46463
A11: R06 | D11: 35879 | F11: 60097
D12: 22531 | F12: 43011
D13: 34505 | F13: 55069
D14: 23661 | F14: 38695
A17: 実質収支比率等に係る経年分析
B18: =実質収支比率等に係る経年分析!F$46 -> R02 | C18: =実質収支比率等に係る経年分析!G$46 -> R03 | D18: =実質収支比率等に係る経年分析!H$46 -> R04 | E18: =実質収支比率等に係る経年分析!I$46 -> R05 | F18: =実質収支比率等に係る経年分析!J$46 -> R06
A19: 実質収支額 | B19: =ROUND(VALUE(SUBSTITUTE(実質収支比率等に係る経年分析!F$48,"▲","-")),2) -> 6.88 | C19: =ROUND(VALUE(SUBSTITUTE(実質収支比率等に係る経年分析!G$48,"▲","-")),2) -> 9.47 | D19: =ROUND(VALUE(SUBSTITUTE(実質収支比率等に係る経年分析!H$48,"▲","-")),2) -> 7.33 | E19: =ROUND(VALUE(SUBSTITUTE(実質収支比率等に係る経年分析!I$48,"▲","-")),2) -> 4.48 | F19: =ROUND(VALUE(SUBSTITUTE(実質収支比率等に係る経年分析!J$48,"▲","-")),2) -> 7.4
A20: 財政調整基金残高 | B20: =ROUND(VALUE(SUBSTITUTE(実質収支比率等に係る経年分析!F$47,"▲","-")),2) -> 20.7 | C20: =ROUND(VALUE(SUBSTITUTE(実質収支比率等に係る経年分析!G$47,"▲","-")),2) -> 20.22 | D20: =ROUND(VALUE(SUBSTITUTE(実質収支比率等に係る経年分析!H$47,"▲","-")),2) -> 19.84 | E20: =ROUND(VALUE(SUBSTITUTE(実質収支比率等に係る経年分析!I$47,"▲","-")),2) -> 20.93 | F20: =ROUND(VALUE(SUBSTITUTE(実質収支比率等に係る経年分析!J$47,"▲","-")),2) -> 23.42
A21: 実質単年度収支 | B21: =IF(ISNUMBER(VALUE(SUBSTITUTE(実質収支比率等に係る経年分析!F$49,"▲","-"))),ROUND(VALUE(SUBSTITUTE(実質収支比率等に係る経年分析!F$49,"▲","-")),2),NA()) -> 5.26 | C21: =IF(ISNUMBER(VALUE(SUBSTITUTE(実質収支比率等に係る経年分析!G$49,"▲","-"))),ROUND(VALUE(SUBSTITUTE(実質収支比率等に係る経年分析!G$49,"▲","-")),2),NA()) -> 2.62 | D21: =IF(ISNUMBER(VALUE(SUBSTITUTE(実質収支比率等に係る経年分析!H$49,"▲","-"))),ROUND(VALUE(SUBSTITUTE(実質収支比率等に係る経年分析!H$49,"▲","-")),2),NA()) -> -1.16 | E21: =IF(ISNUMBER(VALUE(SUBSTITUTE(実質収支比率等に係る経年分析!I$49,"▲","-"))),ROUND(VALUE(SUBSTITUTE(実質収支比率等に係る経年分析!I$49,"▲","-")),2),NA()) -> -0.26 | F21: =IF(ISNUMBER(VALUE(SUBSTITUTE(実質収支比率等に係る経年分析!J$49,"▲","-"))),ROUND(VALUE(SUBSTITUTE(実質収支比率等に係る経年分析!J$49,"▲","-")),2),NA()) -> 7.02
A24: 連結実質赤字比率に係る赤字・黒字の構成分析
B25: =連結実質赤字比率に係る赤字・黒字の構成分析!F$33 -> R02 | D25: =連結実質赤字比率に係る赤字・黒字の構成分析!G$33 -> R03 | F25: =連結実質赤字比率に係る赤字・黒字の構成分析!H$33 -> R04 | H25: =連結実質赤字比率に係る赤字・黒字の構成分析!I$33 -> R05 | J25: =連結実質赤字比率に係る赤字・黒字の構成分析!J$33 -> R06
B26: 赤字額 | C26: 黒字額 | D26: 赤字額 | E26: 黒字額 | F26: 赤字額 | G26: 黒字額 | H26: 赤字額 | I26: 黒字額 | J26: 赤字額 | K26: 黒字額
A27: =IF(連結実質赤字比率に係る赤字・黒字の構成分析!C$43="",NA(),連結実質赤字比率に係る赤字・黒字の構成分析!C$43) -> その他会計（黒字） | B27: =IF(ROUND(VALUE(SUBSTITUTE(連結実質赤字比率に係る赤字・黒字の構成分析!F$43,"▲", "-")), 2) < 0, ABS(ROUND(VALUE(SUBSTITUTE(連結実質赤字比率に係る赤字・黒字の構成分析!F$43,"▲", "-")), 2)), NA()) -> #VALUE! | C27: =IF(ROUND(VALUE(SUBSTITUTE(連結実質赤字比率に係る赤字・黒字の構成分析!F$43,"▲", "-")), 2) >= 0, ABS(ROUND(VALUE(SUBSTITUTE(連結実質赤字比率に係る赤字・黒字の構成分析!F$43,"▲", "-")), 2)), NA()) -> #VALUE! | D27: =IF(ROUND(VALUE(SUBSTITUTE(連結実質赤字比率に係る赤字・黒字の構成分析!G$43,"▲", "-")), 2) < 0, ABS(ROUND(VALUE(SUBSTITUTE(連結実質赤字比率に係る赤字・黒字の構成分析!G$43,"▲", "-")), 2)), NA()) -> #VALUE! | E27: =IF(ROUND(VALUE(SUBSTITUTE(連結実質赤字比率に係る赤字・黒字の構成分析!G$43,"▲", "-")), 2) >= 0, ABS(ROUND(VALUE(SUBSTITUTE(連結実質赤字比率に係る赤字・黒字の構成分析!G$43,"▲", "-")), 2)), NA()) -> #VALUE! | F27: =IF(ROUND(VALUE(SUBSTITUTE(連結実質赤字比率に係る赤字・黒字の構成分析!H$43,"▲", "-")), 2) < 0, ABS(ROUND(VALUE(SUBSTITUTE(連結実質赤字比率に係る赤字・黒字の構成分析!H$43,"▲", "-")), 2)), NA()) -> #VALUE! | G27: =IF(ROUND(VALUE(SUBSTITUTE(連結実質赤字比率に係る赤字・黒字の構成分析!H$43,"▲", "-")), 2) >= 0, ABS(ROUND(VALUE(SUBSTITUTE(連結実質赤字比率に係る赤字・黒字の構成分析!H$43,"▲", "-")), 2)), NA()) -> #VALUE! | H27: =IF(ROUND(VALUE(SUBSTITUTE(連結実質赤字比率に係る赤字・黒字の構成分析!I$43,"▲", "-")), 2) < 0, ABS(ROUND(VALUE(SUBSTITUTE(連結実質赤字比率に係る赤字・黒字の構成分析!I$43,"▲", "-")), 2)), NA()) -> #VALUE! | I27: =IF(ROUND(VALUE(SUBSTITUTE(連結実質赤字比率に係る赤字・黒字の構成分析!I$43,"▲", "-")), 2) >= 0, ABS(ROUND(VALUE(SUBSTITUTE(連結実質赤字比率に係る赤字・黒字の構成分析!I$43,"▲", "-")), 2)), NA()) -> #VALUE! | J27: =IF(ROUND(VALUE(SUBSTITUTE(連結実質赤字比率に係る赤字・黒字の構成分析!J$43,"▲", "-")), 2) < 0, ABS(ROUND(VALUE(SUBSTITUTE(連結実質赤字比率に係る赤字・黒字の構成分析!J$43,"▲", "-")), 2)), NA()) -> #VALUE! | K27: =IF(ROUND(VALUE(SUBSTITUTE(連結実質赤字比率に係る赤字・黒字の構成分析!J$43,"▲", "-")), 2) >= 0, ABS(ROUND(VALUE(SUBSTITUTE(連結実質赤字比率に係る赤字・黒字の構成分析!J$43,"▲", "-")), 2)), NA()) -> #VALUE!
A28: =IF(連結実質赤字比率に係る赤字・黒字の構成分析!C$42="",NA(),連結実質赤字比率に係る赤字・黒字の構成分析!C$42) -> その他会計（赤字） | B28: =IF(ROUND(VALUE(SUBSTITUTE(連結実質赤字比率に係る赤字・黒字の構成分析!F$42,"▲", "-")), 2) < 0, ABS(ROUND(VALUE(SUBSTITUTE(連結実質赤字比率に係る赤字・黒字の構成分析!F$42,"▲", "-")), 2)), NA()) -> #VALUE! | C28: =IF(ROUND(VALUE(SUBSTITUTE(連結実質赤字比率に係る赤字・黒字の構成分析!F$42,"▲", "-")), 2) >= 0, ABS(ROUND(VALUE(SUBSTITUTE(連結実質赤字比率に係る赤字・黒字の構成分析!F$42,"▲", "-")), 2)), NA()) -> #VALUE! | D28: =IF(ROUND(VALUE(SUBSTITUTE(連結実質赤字比率に係る赤字・黒字の構成分析!G$42,"▲", "-")), 2) < 0, ABS(ROUND(VALUE(SUBSTITUTE(連結実質赤字比率に係る赤字・黒字の構成分析!G$42,"▲", "-")), 2)), NA()) -> #VALUE! | E28: =IF(ROUND(VALUE(SUBSTITUTE(連結実質赤字比率に係る赤字・黒字の構成分析!G$42,"▲", "-")), 2) >= 0, ABS(ROUND(VALUE(SUBSTITUTE(連結実質赤字比率に係る赤字・黒字の構成分析!G$42,"▲", "-")), 2)), NA()) -> #VALUE! | F28: =IF(ROUND(VALUE(SUBSTITUTE(連結実質赤字比率に係る赤字・黒字の構成分析!H$42,"▲", "-")), 2) < 0, ABS(ROUND(VALUE(SUBSTITUTE(連結実質赤字比率に係る赤字・黒字の構成分析!H$42,"▲", "-")), 2)), NA()) -> #VALUE! | G28: =IF(ROUND(VALUE(SUBSTITUTE(連結実質赤字比率に係る赤字・黒字の構成分析!H$42,"▲", "-")), 2) >= 0, ABS(ROUND(VALUE(SUBSTITUTE(連結実質赤字比率に係る赤字・黒字の構成分析!H$42,"▲", "-")), 2)), NA()) -> #VALUE! | H28: =IF(ROUND(VALUE(SUBSTITUTE(連結実質赤字比率に係る赤字・黒字の構成分析!I$42,"▲", "-")), 2) < 0, ABS(ROUND(VALUE(SUBSTITUTE(連結実質赤字比率に係る赤字・黒字の構成分析!I$42,"▲", "-")), 2)), NA()) -> #VALUE! | I28: =IF(ROUND(VALUE(SUBSTITUTE(連結実質赤字比率に係る赤字・黒字の構成分析!I$42,"▲", "-")), 2) >= 0, ABS(ROUND(VALUE(SUBSTITUTE(連結実質赤字比率に係る赤字・黒字の構成分析!I$42,"▲", "-")), 2)), NA()) -> #VALUE! | J28: =IF(ROUND(VALUE(SUBSTITUTE(連結実質赤字比率に係る赤字・黒字の構成分析!J$42,"▲", "-")), 2) < 0, ABS(ROUND(VALUE(SUBSTITUTE(連結実質赤字比率に係る赤字・黒字の構成分析!J$42,"▲", "-")), 2)), NA()) -> #VALUE! | K28: =IF(ROUND(VALUE(SUBSTITUTE(連結実質赤字比率に係る赤字・黒字の構成分析!J$42,"▲", "-")), 2) >= 0, ABS(ROUND(VALUE(SUBSTITUTE(連結実質赤字比率に係る赤字・黒字の構成分析!J$42,"▲", "-")), 2)), NA()) -> #VALUE!
A29: =IF(連結実質赤字比率に係る赤字・黒字の構成分析!C$41="",NA(),連結実質赤字比率に係る赤字・黒字の構成分析!C$41) -> #N/A | B29: =IF(ROUND(VALUE(SUBSTITUTE(連結実質赤字比率に係る赤字・黒字の構成分析!F$41,"▲", "-")), 2) < 0, ABS(ROUND(VALUE(SUBSTITUTE(連結実質赤字比率に係る赤字・黒字の構成分析!F$41,"▲", "-")), 2)), NA()) -> #VALUE! | C29: =IF(ROUND(VALUE(SUBSTITUTE(連結実質赤字比率に係る赤字・黒字の構成分析!F$41,"▲", "-")), 2) >= 0, ABS(ROUND(VALUE(SUBSTITUTE(連結実質赤字比率に係る赤字・黒字の構成分析!F$41,"▲", "-")), 2)), NA()) -> #VALUE! | D29: =IF(ROUND(VALUE(SUBSTITUTE(連結実質赤字比率に係る赤字・黒字の構成分析!G$41,"▲", "-")), 2) < 0, ABS(ROUND(VALUE(SUBSTITUTE(連結実質赤字比率に係る赤字・黒字の構成分析!G$41,"▲", "-")), 2)), NA()) -> #VALUE! | E29: =IF(ROUND(VALUE(SUBSTITUTE(連結実質赤字比率に係る赤字・黒字の構成分析!G$41,"▲", "-")), 2) >= 0, ABS(ROUND(VALUE(SUBSTITUTE(連結実質赤字比率に係る赤字・黒字の構成分析!G$41,"▲", "-")), 2)), NA()) -> #VALUE! | F29: =IF(ROUND(VALUE(SUBSTITUTE(連結実質赤字比率に係る赤字・黒字の構成分析!H$41,"▲", "-")), 2) < 0, ABS(ROUND(VALUE(SUBSTITUTE(連結実質赤字比率に係る赤字・黒字の構成分析!H$41,"▲", "-")), 2)), NA()) -> #VALUE! | G29: =IF(ROUND(VALUE(SUBSTITUTE(連結実質赤字比率に係る赤字・黒字の構成分析!H$41,"▲", "-")), 2) >= 0, ABS(ROUND(VALUE(SUBSTITUTE(連結実質赤字比率に係る赤字・黒字の構成分析!H$41,"▲", "-")), 2)), NA()) -> #VALUE! | H29: =IF(ROUND(VALUE(SUBSTITUTE(連結実質赤字比率に係る赤字・黒字の構成分析!I$41,"▲", "-")), 2) < 0, ABS(ROUND(VALUE(SUBSTITUTE(連結実質赤字比率に係る赤字・黒字の構成分析!I$41,"▲", "-")), 2)), NA()) -> #VALUE! | I29: =IF(ROUND(VALUE(SUBSTITUTE(連結実質赤字比率に係る赤字・黒字の構成分析!I$41,"▲", "-")), 2) >= 0, ABS(ROUND(VALUE(SUBSTITUTE(連結実質赤字比率に係る赤字・黒字の構成分析!I$41,"▲", "-")), 2)), NA()) -> #VALUE! | J29: =IF(ROUND(VALUE(SUBSTITUTE(連結実質赤字比率に係る赤字・黒字の構成分析!J$41,"▲", "-")), 2) < 0, ABS(ROUND(VALUE(SUBSTITUTE(連結実質赤字比率に係る赤字・黒字の構成分析!J$41,"▲", "-")), 2)), NA()) -> #VALUE! | K29: =IF(ROUND(VALUE(SUBSTITUTE(連結実質赤字比率に係る赤字・黒字の構成分析!J$41,"▲", "-")), 2) >= 0, ABS(ROUND(VALUE(SUBSTITUTE(連結実質赤字比率に係る赤字・黒字の構成分析!J$41,"▲", "-")), 2)), NA()) -> #VALUE!
A30: =IF(連結実質赤字比率に係る赤字・黒字の構成分析!C$40="",NA(),連結実質赤字比率に係る赤字・黒字の構成分析!C$40) -> #N/A | B30: =IF(ROUND(VALUE(SUBSTITUTE(連結実質赤字比率に係る赤字・黒字の構成分析!F$40,"▲", "-")), 2) < 0, ABS(ROUND(VALUE(SUBSTITUTE(連結実質赤字比率に係る赤字・黒字の構成分析!F$40,"▲", "-")), 2)), NA()) -> #VALUE! | C30: =IF(ROUND(VALUE(SUBSTITUTE(連結実質赤字比率に係る赤字・黒字の構成分析!F$40,"▲", "-")), 2) >= 0, ABS(ROUND(VALUE(SUBSTITUTE(連結実質赤字比率に係る赤字・黒字の構成分析!F$40,"▲", "-")), 2)), NA()) -> #VALUE! | D30: =IF(ROUND(VALUE(SUBSTITUTE(連結実質赤字比率に係る赤字・黒字の構成分析!G$40,"▲", "-")), 2) < 0, ABS(ROUND(VALUE(SUBSTITUTE(連結実質赤字比率に係る赤字・黒字の構成分析!G$40,"▲", "-")), 2)), NA()) -> #VALUE! | E30: =IF(ROUND(VALUE(SUBSTITUTE(連結実質赤字比率に係る赤字・黒字の構成分析!G$40,"▲", "-")), 2) >= 0, ABS(ROUND(VALUE(SUBSTITUTE(連結実質赤字比率に係る赤字・黒字の構成分析!G$40,"▲", "-")), 2)), NA()) -> #VALUE! | F30: =IF(ROUND(VALUE(SUBSTITUTE(連結実質赤字比率に係る赤字・黒字の構成分析!H$40,"▲", "-")), 2) < 0, ABS(ROUND(VALUE(SUBSTITUTE(連結実質赤字比率に係る赤字・黒字の構成分析!H$40,"▲", "-")), 2)), NA()) -> #VALUE! | G30: =IF(ROUND(VALUE(SUBSTITUTE(連結実質赤字比率に係る赤字・黒字の構成分析!H$40,"▲", "-")), 2) >= 0, ABS(ROUND(VALUE(SUBSTITUTE(連結実質赤字比率に係る赤字・黒字の構成分析!H$40,"▲", "-")), 2)), NA()) -> #VALUE! | H30: =IF(ROUND(VALUE(SUBSTITUTE(連結実質赤字比率に係る赤字・黒字の構成分析!I$40,"▲", "-")), 2) < 0, ABS(ROUND(VALUE(SUBSTITUTE(連結実質赤字比率に係る赤字・黒字の構成分析!I$40,"▲", "-")), 2)), NA()) -> #VALUE! | I30: =IF(ROUND(VALUE(SUBSTITUTE(連結実質赤字比率に係る赤字・黒字の構成分析!I$40,"▲", "-")), 2) >= 0, ABS(ROUND(VALUE(SUBSTITUTE(連結実質赤字比率に係る赤字・黒字の構成分析!I$40,"▲", "-")), 2)), NA()) -> #VALUE! | J30: =IF(ROUND(VALUE(SUBSTITUTE(連結実質赤字比率に係る赤字・黒字の構成分析!J$40,"▲", "-")), 2) < 0, ABS(ROUND(VALUE(SUBSTITUTE(連結実質赤字比率に係る赤字・黒字の構成分析!J$40,"▲", "-")), 2)), NA()) -> #VALUE! | K30: =IF(ROUND(VALUE(SUBSTITUTE(連結実質赤字比率に係る赤字・黒字の構成分析!J$40,"▲", "-")), 2) >= 0, ABS(ROUND(VALUE(SUBSTITUTE(連結実質赤字比率に係る赤字・黒字の構成分析!J$40,"▲", "-")), 2)), NA()) -> #VALUE!
A31: =IF(連結実質赤字比率に係る赤字・黒字の構成分析!C$39="",NA(),連結実質赤字比率に係る赤字・黒字の構成分析!C$39) -> #N/A | B31: =IF(ROUND(VALUE(SUBSTITUTE(連結実質赤字比率に係る赤字・黒字の構成分析!F$39,"▲", "-")), 2) < 0, ABS(ROUND(VALUE(SUBSTITUTE(連結実質赤字比率に係る赤字・黒字の構成分析!F$39,"▲", "-")), 2)), NA()) -> #VALUE! | C31: =IF(ROUND(VALUE(SUBSTITUTE(連結実質赤字比率に係る赤字・黒字の構成分析!F$39,"▲", "-")), 2) >= 0, ABS(ROUND(VALUE(SUBSTITUTE(連結実質赤字比率に係る赤字・黒字の構成分析!F$39,"▲", "-")), 2)), NA()) -> #VALUE! | D31: =IF(ROUND(VALUE(SUBSTITUTE(連結実質赤字比率に係る赤字・黒字の構成分析!G$39,"▲", "-")), 2) < 0, ABS(ROUND(VALUE(SUBSTITUTE(連結実質赤字比率に係る赤字・黒字の構成分析!G$39,"▲", "-")), 2)), NA()) -> #VALUE! | E31: =IF(ROUND(VALUE(SUBSTITUTE(連結実質赤字比率に係る赤字・黒字の構成分析!G$39,"▲", "-")), 2) >= 0, ABS(ROUND(VALUE(SUBSTITUTE(連結実質赤字比率に係る赤字・黒字の構成分析!G$39,"▲", "-")), 2)), NA()) -> #VALUE! | F31: =IF(ROUND(VALUE(SUBSTITUTE(連結実質赤字比率に係る赤字・黒字の構成分析!H$39,"▲", "-")), 2) < 0, ABS(ROUND(VALUE(SUBSTITUTE(連結実質赤字比率に係る赤字・黒字の構成分析!H$39,"▲", "-")), 2)), NA()) -> #VALUE! | G31: =IF(ROUND(VALUE(SUBSTITUTE(連結実質赤字比率に係る赤字・黒字の構成分析!H$39,"▲", "-")), 2) >= 0, ABS(ROUND(VALUE(SUBSTITUTE(連結実質赤字比率に係る赤字・黒字の構成分析!H$39,"▲", "-")), 2)), NA()) -> #VALUE! | H31: =IF(ROUND(VALUE(SUBSTITUTE(連結実質赤字比率に係る赤字・黒字の構成分析!I$39,"▲", "-")), 2) < 0, ABS(ROUND(VALUE(SUBSTITUTE(連結実質赤字比率に係る赤字・黒字の構成分析!I$39,"▲", "-")), 2)), NA()) -> #VALUE! | I31: =IF(ROUND(VALUE(SUBSTITUTE(連結実質赤字比率に係る赤字・黒字の構成分析!I$39,"▲", "-")), 2) >= 0, ABS(ROUND(VALUE(SUBSTITUTE(連結実質赤字比率に係る赤字・黒字の構成分析!I$39,"▲", "-")), 2)), NA()) -> #VALUE! | J31: =IF(ROUND(VALUE(SUBSTITUTE(連結実質赤字比率に係る赤字・黒字の構成分析!J$39,"▲", "-")), 2) < 0, ABS(ROUND(VALUE(SUBSTITUTE(連結実質赤字比率に係る赤字・黒字の構成分析!J$39,"▲", "-")), 2)), NA()) -> #VALUE! | K31: =IF(ROUND(VALUE(SUBSTITUTE(連結実質赤字比率に係る赤字・黒字の構成分析!J$39,"▲", "-")), 2) >= 0, ABS(ROUND(VALUE(SUBSTITUTE(連結実質赤字比率に係る赤字・黒字の構成分析!J$39,"▲", "-")), 2)), NA()) -> #VALUE!
A32: =IF(連結実質赤字比率に係る赤字・黒字の構成分析!C$38="",NA(),連結実質赤字比率に係る赤字・黒字の構成分析!C$38) -> 東武東上線連続立体化事業特別会計 | B32: =IF(ROUND(VALUE(SUBSTITUTE(連結実質赤字比率に係る赤字・黒字の構成分析!F$38,"▲", "-")), 2) < 0, ABS(ROUND(VALUE(SUBSTITUTE(連結実質赤字比率に係る赤字・黒字の構成分析!F$38,"▲", "-")), 2)), NA()) -> #N/A | C32: =IF(ROUND(VALUE(SUBSTITUTE(連結実質赤字比率に係る赤字・黒字の構成分析!F$38,"▲", "-")), 2) >= 0, ABS(ROUND(VALUE(SUBSTITUTE(連結実質赤字比率に係る赤字・黒字の構成分析!F$38,"▲", "-")), 2)), NA()) -> 0.01 | D32: =IF(ROUND(VALUE(SUBSTITUTE(連結実質赤字比率に係る赤字・黒字の構成分析!G$38,"▲", "-")), 2) < 0, ABS(ROUND(VALUE(SUBSTITUTE(連結実質赤字比率に係る赤字・黒字の構成分析!G$38,"▲", "-")), 2)), NA()) -> #N/A | E32: =IF(ROUND(VALUE(SUBSTITUTE(連結実質赤字比率に係る赤字・黒字の構成分析!G$38,"▲", "-")), 2) >= 0, ABS(ROUND(VALUE(SUBSTITUTE(連結実質赤字比率に係る赤字・黒字の構成分析!G$38,"▲", "-")), 2)), NA()) -> 0.01 | F32: =IF(ROUND(VALUE(SUBSTITUTE(連結実質赤字比率に係る赤字・黒字の構成分析!H$38,"▲", "-")), 2) < 0, ABS(ROUND(VALUE(SUBSTITUTE(連結実質赤字比率に係る赤字・黒字の構成分析!H$38,"▲", "-")), 2)), NA()) -> #N/A | G32: =IF(ROUND(VALUE(SUBSTITUTE(連結実質赤字比率に係る赤字・黒字の構成分析!H$38,"▲", "-")), 2) >= 0, ABS(ROUND(VALUE(SUBSTITUTE(連結実質赤字比率に係る赤字・黒字の構成分析!H$38,"▲", "-")), 2)), NA()) -> 0.02 | H32: =IF(ROUND(VALUE(SUBSTITUTE(連結実質赤字比率に係る赤字・黒字の構成分析!I$38,"▲", "-")), 2) < 0, ABS(ROUND(VALUE(SUBSTITUTE(連結実質赤字比率に係る赤字・黒字の構成分析!I$38,"▲", "-")), 2)), NA()) -> #N/A | I32: =IF(ROUND(VALUE(SUBSTITUTE(連結実質赤字比率に係る赤字・黒字の構成分析!I$38,"▲", "-")), 2) >= 0, ABS(ROUND(VALUE(SUBSTITUTE(連結実質赤字比率に係る赤字・黒字の構成分析!I$38,"▲", "-")), 2)), NA()) -> 0.03 | J32: =IF(ROUND(VALUE(SUBSTITUTE(連結実質赤字比率に係る赤字・黒字の構成分析!J$38,"▲", "-")), 2) < 0, ABS(ROUND(VALUE(SUBSTITUTE(連結実質赤字比率に係る赤字・黒字の構成分析!J$38,"▲", "-")), 2)), NA()) -> #N/A | K32: =IF(ROUND(VALUE(SUBSTITUTE(連結実質赤字比率に係る赤字・黒字の構成分析!J$38,"▲", "-")), 2) >= 0, ABS(ROUND(VALUE(SUBSTITUTE(連結実質赤字比率に係る赤字・黒字の構成分析!J$38,"▲", "-")), 2)), NA()) -> 0.05
A33: =IF(連結実質赤字比率に係る赤字・黒字の構成分析!C$37="",NA(),連結実質赤字比率に係る赤字・黒字の構成分析!C$37) -> 後期高齢者医療事業特別会計 | B33: =IF(ROUND(VALUE(SUBSTITUTE(連結実質赤字比率に係る赤字・黒字の構成分析!F$37,"▲", "-")), 2) < 0, ABS(ROUND(VALUE(SUBSTITUTE(連結実質赤字比率に係る赤字・黒字の構成分析!F$37,"▲", "-")), 2)), NA()) -> #N/A | C33: =IF(ROUND(VALUE(SUBSTITUTE(連結実質赤字比率に係る赤字・黒字の構成分析!F$37,"▲", "-")), 2) >= 0, ABS(ROUND(VALUE(SUBSTITUTE(連結実質赤字比率に係る赤字・黒字の構成分析!F$37,"▲", "-")), 2)), NA()) -> 0.11 | D33: =IF(ROUND(VALUE(SUBSTITUTE(連結実質赤字比率に係る赤字・黒字の構成分析!G$37,"▲", "-")), 2) < 0, ABS(ROUND(VALUE(SUBSTITUTE(連結実質赤字比率に係る赤字・黒字の構成分析!G$37,"▲", "-")), 2)), NA()) -> #N/A | E33: =IF(ROUND(VALUE(SUBSTITUTE(連結実質赤字比率に係る赤字・黒字の構成分析!G$37,"▲", "-")), 2) >= 0, ABS(ROUND(VALUE(SUBSTITUTE(連結実質赤字比率に係る赤字・黒字の構成分析!G$37,"▲", "-")), 2)), NA()) -> 0.12 | F33: =IF(ROUND(VALUE(SUBSTITUTE(連結実質赤字比率に係る赤字・黒字の構成分析!H$37,"▲", "-")), 2) < 0, ABS(ROUND(VALUE(SUBSTITUTE(連結実質赤字比率に係る赤字・黒字の構成分析!H$37,"▲", "-")), 2)), NA()) -> #N/A | G33: =IF(ROUND(VALUE(SUBSTITUTE(連結実質赤字比率に係る赤字・黒字の構成分析!H$37,"▲", "-")), 2) >= 0, ABS(ROUND(VALUE(SUBSTITUTE(連結実質赤字比率に係る赤字・黒字の構成分析!H$37,"▲", "-")), 2)), NA()) -> 0.14 | H33: =IF(ROUND(VALUE(SUBSTITUTE(連結実質赤字比率に係る赤字・黒字の構成分析!I$37,"▲", "-")), 2) < 0, ABS(ROUND(VALUE(SUBSTITUTE(連結実質赤字比率に係る赤字・黒字の構成分析!I$37,"▲", "-")), 2)), NA()) -> #N/A | I33: =IF(ROUND(VALUE(SUBSTITUTE(連結実質赤字比率に係る赤字・黒字の構成分析!I$37,"▲", "-")), 2) >= 0, ABS(ROUND(VALUE(SUBSTITUTE(連結実質赤字比率に係る赤字・黒字の構成分析!I$37,"▲", "-")), 2)), NA()) -> 0.08 | J33: =IF(ROUND(VALUE(SUBSTITUTE(連結実質赤字比率に係る赤字・黒字の構成分析!J$37,"▲", "-")), 2) < 0, ABS(ROUND(VALUE(SUBSTITUTE(連結実質赤字比率に係る赤字・黒字の構成分析!J$37,"▲", "-")), 2)), NA()) -> #N/A | K33: =IF(ROUND(VALUE(SUBSTITUTE(連結実質赤字比率に係る赤字・黒字の構成分析!J$37,"▲", "-")), 2) >= 0, ABS(ROUND(VALUE(SUBSTITUTE(連結実質赤字比率に係る赤字・黒字の構成分析!J$37,"▲", "-")), 2)), NA()) -> 0.06
A34: =IF(連結実質赤字比率に係る赤字・黒字の構成分析!C$36="",NA(),連結実質赤字比率に係る赤字・黒字の構成分析!C$36) -> 国民健康保険事業特別会計 | B34: =IF(ROUND(VALUE(SUBSTITUTE(連結実質赤字比率に係る赤字・黒字の構成分析!F$36,"▲", "-")), 2) < 0, ABS(ROUND(VALUE(SUBSTITUTE(連結実質赤字比率に係る赤字・黒字の構成分析!F$36,"▲", "-")), 2)), NA()) -> #N/A | C34: =IF(ROUND(VALUE(SUBSTITUTE(連結実質赤字比率に係る赤字・黒字の構成分析!F$36,"▲", "-")), 2) >= 0, ABS(ROUND(VALUE(SUBSTITUTE(連結実質赤字比率に係る赤字・黒字の構成分析!F$36,"▲", "-")), 2)), NA()) -> 1.04 | D34: =IF(ROUND(VALUE(SUBSTITUTE(連結実質赤字比率に係る赤字・黒字の構成分析!G$36,"▲", "-")), 2) < 0, ABS(ROUND(VALUE(SUBSTITUTE(連結実質赤字比率に係る赤字・黒字の構成分析!G$36,"▲", "-")), 2)), NA()) -> #N/A | E34: =IF(ROUND(VALUE(SUBSTITUTE(連結実質赤字比率に係る赤字・黒字の構成分析!G$36,"▲", "-")), 2) >= 0, ABS(ROUND(VALUE(SUBSTITUTE(連結実質赤字比率に係る赤字・黒字の構成分析!G$36,"▲", "-")), 2)), NA()) -> 0.68 | F34: =IF(ROUND(VALUE(SUBSTITUTE(連結実質赤字比率に係る赤字・黒字の構成分析!H$36,"▲", "-")), 2) < 0, ABS(ROUND(VALUE(SUBSTITUTE(連結実質赤字比率に係る赤字・黒字の構成分析!H$36,"▲", "-")), 2)), NA()) -> #N/A | G34: =IF(ROUND(VALUE(SUBSTITUTE(連結実質赤字比率に係る赤字・黒字の構成分析!H$36,"▲", "-")), 2) >= 0, ABS(ROUND(VALUE(SUBSTITUTE(連結実質赤字比率に係る赤字・黒字の構成分析!H$36,"▲", "-")), 2)), NA()) -> 0.32 | H34: =IF(ROUND(VALUE(SUBSTITUTE(連結実質赤字比率に係る赤字・黒字の構成分析!I$36,"▲", "-")), 2) < 0, ABS(ROUND(VALUE(SUBSTITUTE(連結実質赤字比率に係る赤字・黒字の構成分析!I$36,"▲", "-")), 2)), NA()) -> #N/A | I34: =IF(ROUND(VALUE(SUBSTITUTE(連結実質赤字比率に係る赤字・黒字の構成分析!I$36,"▲", "-")), 2) >= 0, ABS(ROUND(VALUE(SUBSTITUTE(連結実質赤字比率に係る赤字・黒字の構成分析!I$36,"▲", "-")), 2)), NA()) -> 0.46 | J34: =IF(ROUND(VALUE(SUBSTITUTE(連結実質赤字比率に係る赤字・黒字の構成分析!J$36,"▲", "-")), 2) < 0, ABS(ROUND(VALUE(SUBSTITUTE(連結実質赤字比率に係る赤字・黒字の構成分析!J$36,"▲", "-")), 2)), NA()) -> #N/A | K34: =IF(ROUND(VALUE(SUBSTITUTE(連結実質赤字比率に係る赤字・黒字の構成分析!J$36,"▲", "-")), 2) >= 0, ABS(ROUND(VALUE(SUBSTITUTE(連結実質赤字比率に係る赤字・黒字の構成分析!J$36,"▲", "-")), 2)), NA()) -> 0.42
A35: =IF(連結実質赤字比率に係る赤字・黒字の構成分析!C$35="",NA(),連結実質赤字比率に係る赤字・黒字の構成分析!C$35) -> 介護保険事業特別会計 | B35: =IF(ROUND(VALUE(SUBSTITUTE(連結実質赤字比率に係る赤字・黒字の構成分析!F$35,"▲", "-")), 2) < 0, ABS(ROUND(VALUE(SUBSTITUTE(連結実質赤字比率に係る赤字・黒字の構成分析!F$35,"▲", "-")), 2)), NA()) -> #N/A | C35: =IF(ROUND(VALUE(SUBSTITUTE(連結実質赤字比率に係る赤字・黒字の構成分析!F$35,"▲", "-")), 2) >= 0, ABS(ROUND(VALUE(SUBSTITUTE(連結実質赤字比率に係る赤字・黒字の構成分析!F$35,"▲", "-")), 2)), NA()) -> 1.29 | D35: =IF(ROUND(VALUE(SUBSTITUTE(連結実質赤字比率に係る赤字・黒字の構成分析!G$35,"▲", "-")), 2) < 0, ABS(ROUND(VALUE(SUBSTITUTE(連結実質赤字比率に係る赤字・黒字の構成分析!G$35,"▲", "-")), 2)), NA()) -> #N/A | E35: =IF(ROUND(VALUE(SUBSTITUTE(連結実質赤字比率に係る赤字・黒字の構成分析!G$35,"▲", "-")), 2) >= 0, ABS(ROUND(VALUE(SUBSTITUTE(連結実質赤字比率に係る赤字・黒字の構成分析!G$35,"▲", "-")), 2)), NA()) -> 1.14 | F35: =IF(ROUND(VALUE(SUBSTITUTE(連結実質赤字比率に係る赤字・黒字の構成分析!H$35,"▲", "-")), 2) < 0, ABS(ROUND(VALUE(SUBSTITUTE(連結実質赤字比率に係る赤字・黒字の構成分析!H$35,"▲", "-")), 2)), NA()) -> #N/A | G35: =IF(ROUND(VALUE(SUBSTITUTE(連結実質赤字比率に係る赤字・黒字の構成分析!H$35,"▲", "-")), 2) >= 0, ABS(ROUND(VALUE(SUBSTITUTE(連結実質赤字比率に係る赤字・黒字の構成分析!H$35,"▲", "-")), 2)), NA()) -> 1.05 | H35: =IF(ROUND(VALUE(SUBSTITUTE(連結実質赤字比率に係る赤字・黒字の構成分析!I$35,"▲", "-")), 2) < 0, ABS(ROUND(VALUE(SUBSTITUTE(連結実質赤字比率に係る赤字・黒字の構成分析!I$35,"▲", "-")), 2)), NA()) -> #N/A | I35: =IF(ROUND(VALUE(SUBSTITUTE(連結実質赤字比率に係る赤字・黒字の構成分析!I$35,"▲", "-")), 2) >= 0, ABS(ROUND(VALUE(SUBSTITUTE(連結実質赤字比率に係る赤字・黒字の構成分析!I$35,"▲", "-")), 2)), NA()) -> 0.69 | J35: =IF(ROUND(VALUE(SUBSTITUTE(連結実質赤字比率に係る赤字・黒字の構成分析!J$35,"▲", "-")), 2) < 0, ABS(ROUND(VALUE(SUBSTITUTE(連結実質赤字比率に係る赤字・黒字の構成分析!J$35,"▲", "-")), 2)), NA()) -> #N/A | K35: =IF(ROUND(VALUE(SUBSTITUTE(連結実質赤字比率に係る赤字・黒字の構成分析!J$35,"▲", "-")), 2) >= 0, ABS(ROUND(VALUE(SUBSTITUTE(連結実質赤字比率に係る赤字・黒字の構成分析!J$35,"▲", "-")), 2)), NA()) -> 0.54
A36: =IF(連結実質赤字比率に係る赤字・黒字の構成分析!C$34="",NA(),連結実質赤字比率に係る赤字・黒字の構成分析!C$34) -> 一般会計 | B36: =IF(ROUND(VALUE(SUBSTITUTE(連結実質赤字比率に係る赤字・黒字の構成分析!F$34,"▲", "-")), 2) < 0, ABS(ROUND(VALUE(SUBSTITUTE(連結実質赤字比率に係る赤字・黒字の構成分析!F$34,"▲", "-")), 2)), NA()) -> #N/A | C36: =IF(ROUND(VALUE(SUBSTITUTE(連結実質赤字比率に係る赤字・黒字の構成分析!F$34,"▲", "-")), 2) >= 0, ABS(ROUND(VALUE(SUBSTITUTE(連結実質赤字比率に係る赤字・黒字の構成分析!F$34,"▲", "-")), 2)), NA()) -> 6.85 | D36: =IF(ROUND(VALUE(SUBSTITUTE(連結実質赤字比率に係る赤字・黒字の構成分析!G$34,"▲", "-")), 2) < 0, ABS(ROUND(VALUE(SUBSTITUTE(連結実質赤字比率に係る赤字・黒字の構成分析!G$34,"▲", "-")), 2)), NA()) -> #N/A | E36: =IF(ROUND(VALUE(SUBSTITUTE(連結実質赤字比率に係る赤字・黒字の構成分析!G$34,"▲", "-")), 2) >= 0, ABS(ROUND(VALUE(SUBSTITUTE(連結実質赤字比率に係る赤字・黒字の構成分析!G$34,"▲", "-")), 2)), NA()) -> 9.45 | F36: =IF(ROUND(VALUE(SUBSTITUTE(連結実質赤字比率に係る赤字・黒字の構成分析!H$34,"▲", "-")), 2) < 0, ABS(ROUND(VALUE(SUBSTITUTE(連結実質赤字比率に係る赤字・黒字の構成分析!H$34,"▲", "-")), 2)), NA()) -> #N/A | G36: =IF(ROUND(VALUE(SUBSTITUTE(連結実質赤字比率に係る赤字・黒字の構成分析!H$34,"▲", "-")), 2) >= 0, ABS(ROUND(VALUE(SUBSTITUTE(連結実質赤字比率に係る赤字・黒字の構成分析!H$34,"▲", "-")), 2)), NA()) -> 7.31 | H36: =IF(ROUND(VALUE(SUBSTITUTE(連結実質赤字比率に係る赤字・黒字の構成分析!I$34,"▲", "-")), 2) < 0, ABS(ROUND(VALUE(SUBSTITUTE(連結実質赤字比率に係る赤字・黒字の構成分析!I$34,"▲", "-")), 2)), NA()) -> #N/A | I36: =IF(ROUND(VALUE(SUBSTITUTE(連結実質赤字比率に係る赤字・黒字の構成分析!I$34,"▲", "-")), 2) >= 0, ABS(ROUND(VALUE(SUBSTITUTE(連結実質赤字比率に係る赤字・黒字の構成分析!I$34,"▲", "-")), 2)), NA()) -> 4.43 | J36: =IF(ROUND(VALUE(SUBSTITUTE(連結実質赤字比率に係る赤字・黒字の構成分析!J$34,"▲", "-")), 2) < 0, ABS(ROUND(VALUE(SUBSTITUTE(連結実質赤字比率に係る赤字・黒字の構成分析!J$34,"▲", "-")), 2)), NA()) -> #N/A | K36: =IF(ROUND(VALUE(SUBSTITUTE(連結実質赤字比率に係る赤字・黒字の構成分析!J$34,"▲", "-")), 2) >= 0, ABS(ROUND(VALUE(SUBSTITUTE(連結実質赤字比率に係る赤字・黒字の構成分析!J$34,"▲", "-")), 2)), NA()) -> 7.34
A39: 実質公債費比率（分子）の構造
B40: ='実質公債費比率（分子）の構造'!K$44 -> R02 | E40: ='実質公債費比率（分子）の構造'!L$44 -> R03 | H40: ='実質公債費比率（分子）の構造'!M$44 -> R04 | K40: ='実質公債費比率（分子）の構造'!N$44 -> R05 | N40: ='実質公債費比率（分子）の構造'!O$44 -> R06
B41: 元利償還金等 | D41: 算入公債費等 | E41: 元利償還金等 | G41: 算入公債費等 | H41: 元利償還金等 | J41: 算入公債費等 | K41: 元利償還金等 | M41: 算入公債費等 | N41: 元利償還金等 | P41: 算入公債費等
A42: 算入公債費等 | D42: ='実質公債費比率（分子）の構造'!K$52 -> 8842 | G42: ='実質公債費比率（分子）の構造'!L$52 -> 8564 | J42: ='実質公債費比率（分子）の構造'!M$52 -> 7884 | M42: ='実質公債費比率（分子）の構造'!N$52 -> 7163 | P42: ='実質公債費比率（分子）の構造'!O$52 -> 5849
A43: 一時借入金の利子 | B43: ='実質公債費比率（分子）の構造'!K$51 -> - | E43: ='実質公債費比率（分子）の構造'!L$51 -> - | H43: ='実質公債費比率（分子）の構造'!M$51 -> - | K43: ='実質公債費比率（分子）の構造'!N$51 -> - | N43: ='実質公債費比率（分子）の構造'!O$51 -> -
A44: 債務負担行為に基づく支出額 | B44: ='実質公債費比率（分子）の構造'!K$50 -> 115 | E44: ='実質公債費比率（分子）の構造'!L$50 -> 381 | H44: ='実質公債費比率（分子）の構造'!M$50 -> 266 | K44: ='実質公債費比率（分子）の構造'!N$50 -> 201 | N44: ='実質公債費比率（分子）の構造'!O$50 -> 285
A45: 組合等が起こした地方債の元利償還金に対する負担金等 | B45: ='実質公債費比率（分子）の構造'!K$49 -> 166 | E45: ='実質公債費比率（分子）の構造'!L$49 -> 160 | H45: ='実質公債費比率（分子）の構造'!M$49 -> 160 | K45: ='実質公債費比率（分子）の構造'!N$49 -> 201 | N45: ='実質公債費比率（分子）の構造'!O$49 -> 287
A46: 公営企業債の元利償還金に対する繰入金 | B46: ='実質公債費比率（分子）の構造'!K$48 -> - | E46: ='実質公債費比率（分子）の構造'!L$48 -> - | H46: ='実質公債費比率（分子）の構造'!M$48 -> - | K46: ='実質公債費比率（分子）の構造'!N$48 -> - | N46: ='実質公債費比率（分子）の構造'!O$48 -> -
A47: 満期一括償還地方債に係る年度割相当額 | B47: ='実質公債費比率（分子）の構造'!K$47 -> 154 | E47: ='実質公債費比率（分子）の構造'!L$47 -> 229 | H47: ='実質公債費比率（分子）の構造'!M$47 -> 229 | K47: ='実質公債費比率（分子）の構造'!N$47 -> 229 | N47: ='実質公債費比率（分子）の構造'!O$47 -> 218
...
